BEGIN:VCALENDAR
VERSION:2.0
METHOD:PUBLISH
X-WR-CALNAME:V zájmu dítěte |  Srpen 22 2016- Srpen 29 2016
PRODID:-//strange bird labs//Drupal iCal API//EN
BEGIN:VEVENT
DTSTAMP;VALUE=DATE-TIME:20260420T183221Z
DTSTART;VALUE=DATE-TIME:20160823T183200Z
DTEND;VALUE=DATE-TIME:20020203
UID:https://www.vzd.cz/zvladani-narocnych-situaci-v-komunikaci-velky-vuz-sever-praha
URL;VALUE=URI:https://www.vzd.cz/zvladani-narocnych-situaci-v-komunikaci-velky-vuz-sever-praha
SUMMARY:Zvládání náročných situací v komunikaci (Velký vůz Sever\, Praha)
DESCRIPTION:<p><a href=\\"http\://www.velkyvuz-sever.cz/?event=zvladani-narocnych-situaci-v-komunikaci-7\\" title=\\"http\://www.velkyvuz-sever.cz/?event=zvladani-narocnych-situaci-v-komunikaci-7\\">http\://www.velkyvuz-sever.cz/?event=zvladani-narocnych-situaci-v-komunik...</a></p>
 
END:VEVENT
END:VCALENDAR
