BEGIN:VCALENDAR
VERSION:2.0
METHOD:PUBLISH
X-WR-CALNAME:V zájmu dítěte |  Březen 16 2016- Duben 15 2016
PRODID:-//strange bird labs//Drupal iCal API//EN
BEGIN:VEVENT
DTSTAMP;VALUE=DATE-TIME:20260423T111534Z
DTSTART;VALUE=DATE-TIME:20160223T204800Z
DTEND;VALUE=DATE-TIME:20020203
UID:https://www.vzd.cz/efektivni-komunikace-rodinna-diagnostika-pro-pracovniky-socpravni-ochrany-velky-vuz-sever-praha
URL;VALUE=URI:https://www.vzd.cz/efektivni-komunikace-rodinna-diagnostika-pro-pracovniky-socpravni-ochrany-velky-vuz-sever-praha
SUMMARY:Efektivní komunikace a rodinná diagnostika pro pracovníky soc.právní ochrany (Velký vůz Sever\, Praha)
DESCRIPTION:<p>Výcvik</p>
 <p>Akreditace MPSV</p>
 <p>1. setkání\: 23.- 24.2. 2016</p>
 <p>2. setkání\: 15.- 16.3. 2016</p>
 <p>3. setkání\: 12.- 13.4. 2016</p>
 <p>4. setkání\: 17.- 18.5. 2016</p>
 <p>Lektoři\: PhDr. Jan Vyhnálek\, Bc. Pavel Kalpakcis</p>
 <p>Anotace výcviku\:</p>
 <p>64hodinový výcvik je určen pracovníkům organizací s pověřením sociálně-právní ochrany dětí. Kurz nabízí nástroje profesionální komunikace\, kterou potřebují\, aby mohly mapovat situaci dětí v rodině/zařízení\, stanovovat zakázky a cíle spolupráce s rodinou.</p>
 <p>Více informací o tématech a programu kurzu najdete zde</p>
 
END:VEVENT
BEGIN:VEVENT
DTSTAMP;VALUE=DATE-TIME:20260423T111534Z
DTSTART;VALUE=DATE-TIME:20160316T121500Z
DTEND;VALUE=DATE-TIME:20020203
UID:https://www.vzd.cz/zaklady-vztahove-vazby-attachmentu-v-socialne-pravni-ochrane-deti-lumos-0
URL;VALUE=URI:https://www.vzd.cz/zaklady-vztahove-vazby-attachmentu-v-socialne-pravni-ochrane-deti-lumos-0
SUMMARY:Základy vztahové vazby - attachmentu v sociálně právní ochraně dětí (Lumos)
DESCRIPTION:<p>Pozvánka na kurz<br />
 Základy vztahové vazby - attachmentu v sociálně právní ochraně dětí</p>
 <p>Pracujete s dětmi\, které potřebují pomoci?<br />
 Přemýšlíte o tom\, jak jim pomoci co nejlépe? Váháte\, co je pro ně nejlepší?<br />
 Chcete vědět\, jak blízké vztahy ovlivňují jejich život?<br />
 Zajímá vás\, jak ztráty a traumata ovlivňují jejich vývoj?</p>
 <p>Ano?<br />
 Pak je tento kurz určen právě vám!<br />
 .</p>
 
END:VEVENT
BEGIN:VEVENT
DTSTAMP;VALUE=DATE-TIME:20260423T111534Z
DTSTART;VALUE=DATE-TIME:20160321T122600Z
DTEND;VALUE=DATE-TIME:20020203
UID:https://www.vzd.cz/kniha-zivota-%E2%80%93-metoda-prace-s-ditetem-vyrustajicim-v-nahradni-rodinne-peci-%E2%80%93-uvod-do-problematiky-am
URL;VALUE=URI:https://www.vzd.cz/kniha-zivota-%E2%80%93-metoda-prace-s-ditetem-vyrustajicim-v-nahradni-rodinne-peci-%E2%80%93-uvod-do-problematiky-am
SUMMARY:Kniha života – metoda práce s dítětem vyrůstajícím v náhradní rodinné péči – úvod do problematiky (Amalthea)
DESCRIPTION:<p>Seminář je určen\: sociálním pracovníkům OSPOD\, pracovníkům dalších subjektů<br />
 a organizací\, které se zabývají náhradní rodinnou péčí\, odborné veřejnosti.<br />
 Seminář je akreditován MPSV\, č. akreditace\: 2012/1102-PC/SP..<br />
 Místo konání\: Evangelická fara\, Sladkovského 638\, Pardubice<br />
 Datum konání\: 21. 3. 2016<br />
 Rozsah semináře\: 8 vyučovacích hodin<br />
 Max. kapacita semináře\: 16 účastníků<br />
 Začátek semináře\: 9\:00 hod.<br />
 Cena\: 1.600\,- Kč/osoba (cena zahrnuje účastnický poplatek\, občerstvení na místě\, tisk materiálů)</p>
 
END:VEVENT
BEGIN:VEVENT
DTSTAMP;VALUE=DATE-TIME:20260423T111534Z
DTSTART;VALUE=DATE-TIME:20160321T205200Z
DTEND;VALUE=DATE-TIME:20020203
UID:https://www.vzd.cz/zaklady-vedeni-rozhovoru-s-ditetem-velky-vuz-sever-praha
URL;VALUE=URI:https://www.vzd.cz/zaklady-vedeni-rozhovoru-s-ditetem-velky-vuz-sever-praha
SUMMARY:Základy vedení rozhovoru s dítětem (Velký vůz Sever\, Praha)
DESCRIPTION:<p>O kurzu\:</p>
 <p>Akreditace MPSV</p>
 <p>1denní\, 8 výukových hodin</p>
 <p>Lektor\: Bc. Pavel Kalpakcis</p>
 <p>Možnosti\, jak vést rozhovor s dítětem\, jak se s ním domluvit\, získat odpovědi a pomocí vhodných postupů\, otázek či technik intervenovat ku pomoci dítěti\, využití kreativních přístupů dle věku dítěte.</p>
 <p>Více informací o tématech a programu kurzu najdete zde</p>
 <p><a href=\\"http\://www.velkyvuz-sever.cz/?event=zaklady-vedeni-rozhovoru-s-ditetem-48\\" title=\\"http\://www.velkyvuz-sever.cz/?event=zaklady-vedeni-rozhovoru-s-ditetem-48\\">http\://www.velkyvuz-sever.cz/?event=zaklady-vedeni-rozhovoru-s-ditetem-48</a> </p>
 <p>Cena\: 1 350 Kč</p>
 <p>Domov Sue Ryder\, z.ú.\, Praha 4 – Michle<br />
 Michelská 1/7 - Praha 4. Michle<br />
 Události</p>
 <p>Datum\: 21.3.<br />
 Čas\: 9\:00 - 17\:00 </p>
 <p>Místo konání</p>
 
END:VEVENT
BEGIN:VEVENT
DTSTAMP;VALUE=DATE-TIME:20260423T111534Z
DTSTART;VALUE=DATE-TIME:20160329T203100Z
DTEND;VALUE=DATE-TIME:20020203
UID:https://www.vzd.cz/efektivni-komunikace-rodinna-diagnostika-pro-pracovniky-socpravni-ochrany-velky-vuz-sever-olomouc
URL;VALUE=URI:https://www.vzd.cz/efektivni-komunikace-rodinna-diagnostika-pro-pracovniky-socpravni-ochrany-velky-vuz-sever-olomouc
SUMMARY:Efektivní komunikace a rodinná diagnostika pro pracovníky soc.právní ochrany (Velký vůz Sever\, Olomouc)
DESCRIPTION:<p><a href=\\"http\://www.velkyvuz-sever.cz/?event=efektivni-komunikace-a-rodinna-diagnostika-pro-pracovniky-socialne-pravni-ochrany-4\\" title=\\"http\://www.velkyvuz-sever.cz/?event=efektivni-komunikace-a-rodinna-diagnostika-pro-pracovniky-socialne-pravni-ochrany-4\\">http\://www.velkyvuz-sever.cz/?event=efektivni-komunikace-a-rodinna-diagn...</a></p>
 <p>Výcvik</p>
 <p>Akreditace MPSV 2013/0734-PC/SP</p>
 <p>1. setkání\: 29.- 30.3. 2016</p>
 <p>2. setkání\: 21.- 22.4. 2016</p>
 <p>3. setkání\: 10.- 11.5. 2016</p>
 <p>4. setkání\: 13.- 14.6. 2016</p>
 <p>Lektoři\: PhDr. Jan Vyhnálek\, Bc. Pavel Kalpakcis</p>
 <p>Anotace výcviku\:</p>
 
END:VEVENT
BEGIN:VEVENT
DTSTAMP;VALUE=DATE-TIME:20260423T111534Z
DTSTART;VALUE=DATE-TIME:20160331T122200Z
DTEND;VALUE=DATE-TIME:20160331T122200Z
UID:https://www.vzd.cz/uvod-do-problematiky-zapojovani-deti-do-rozhodovani-v-ramci-spod-%E2%80%93-prima-prace-s-detmi-lumos-0
URL;VALUE=URI:https://www.vzd.cz/uvod-do-problematiky-zapojovani-deti-do-rozhodovani-v-ramci-spod-%E2%80%93-prima-prace-s-detmi-lumos-0
SUMMARY:Úvod do problematiky zapojování dětí do rozhodování v rámci SPOD – přímá práce s dětmi (Lumos)
DESCRIPTION:<p>Pozvánka na kurz<br />
  Úvod do problematiky zapojování dětí do rozhodování v rámci SPOD – přímá práce s dětmi</p>
 <p>Pracujete s dětmi v sociálně-právní ochraně dětí?<br />
  Potřebujete získat zkušenosti a dovednosti ve zjišťování názoru dítěte?<br />
  Chcete se naučit\, jak snadno a efektivně zapojovat dítě při vaší práci do rozhodování? Chcete vědět\, jaké emoce děti prožívají v různých situacích?<br />
  Hledáte praktické nástroje pro zjišťování názorů dětí?</p>
 <p>Ano?<br />
  Pak je tento kurz určen právě vám!</p>
 
END:VEVENT
BEGIN:VEVENT
DTSTAMP;VALUE=DATE-TIME:20260423T111534Z
DTSTART;VALUE=DATE-TIME:20160331T193600Z
DTEND;VALUE=DATE-TIME:20020203
UID:https://www.vzd.cz/deti-domaci-nasili-locika-praha
URL;VALUE=URI:https://www.vzd.cz/deti-domaci-nasili-locika-praha
SUMMARY:Děti a domácí násilí (LOCIKA\, Praha)
DESCRIPTION:<p>Konference věnovaná novým perspektivám práce s celou rodinou ohroženou domácím násilím\, registrace zdarma od 22.2.2016</p>
 
END:VEVENT
BEGIN:VEVENT
DTSTAMP;VALUE=DATE-TIME:20260423T111534Z
DTSTART;VALUE=DATE-TIME:20160405T122900Z
DTEND;VALUE=DATE-TIME:20020203
UID:https://www.vzd.cz/interaktivni-pripadova-konference-s-durazem-na-zapojeni-ditete-%E2%80%93-uvod-do-problematiky-amalthea
URL;VALUE=URI:https://www.vzd.cz/interaktivni-pripadova-konference-s-durazem-na-zapojeni-ditete-%E2%80%93-uvod-do-problematiky-amalthea
SUMMARY:Interaktivní případová konference s důrazem na zapojení dítěte – úvod do problematiky (Amalthea)
DESCRIPTION:<p>Místo konání\: Evangelická fara\, Sladkovského 638\, Pardubice<br />
 Datum konání\: 5. 4. 2016<br />
 Rozsah semináře\: 8 vyučovacích hodin<br />
 Max. kapacita semináře\: 20 účastníků<br />
 Začátek semináře\: 9\:00 hod.<br />
 Cena\: 1 600\,- Kč/osoba (cena zahrnuje účastnický poplatek\, občerstvení na místě\, tisk materiálů)</p>
 
END:VEVENT
BEGIN:VEVENT
DTSTAMP;VALUE=DATE-TIME:20260423T111534Z
DTSTART;VALUE=DATE-TIME:20160405T185800Z
DTEND;VALUE=DATE-TIME:20020203
UID:https://www.vzd.cz/21%C2%A0seminar-o%C2%A0plneni-umluvy-osn-o-pravech-%C2%A0ditetev-%C2%A0cr-%C2%A0
URL;VALUE=URI:https://www.vzd.cz/21%C2%A0seminar-o%C2%A0plneni-umluvy-osn-o-pravech-%C2%A0ditetev-%C2%A0cr-%C2%A0
SUMMARY:21. seminář o plnění Úmluvy OSN o právech  dítětev  ČR  
DESCRIPTION:<p>Senát Parlamentu ČR\, Frýdlantský  salónek\, Praha 1\, Valdštejnské nám. 4</p>
 
END:VEVENT
END:VCALENDAR
